BEGIN:VCALENDAR
VERSION:2.0
PRODID:-//Union Commerciale et Artisanale Grevenmacher - ECPv4.6.6//NONSGML v1.0//EN
CALSCALE:GREGORIAN
METHOD:PUBLISH
X-WR-CALNAME:Union Commerciale et Artisanale Grevenmacher
X-ORIGINAL-URL:http://ucag.lu
X-WR-CALDESC:Events for Union Commerciale et Artisanale Grevenmacher
BEGIN:VEVENT
DTSTART;TZID=UTC+0:20180107T080000
DTEND;TZID=UTC+0:20180107T170000
DTSTAMP:20171220T035842
CREATED:20170503T125248Z
LAST-MODIFIED:20171206T074013Z
UID:99992321-1515312000-1515344400@ucag.lu
SUMMARY:Wantersoldefest
DESCRIPTION:
URL:http://ucag.lu/event/wanterbraderie-3/
ATTACH;FMTTYPE=image/png:http://ucag.lu/wp-content/uploads/2017/12/Wantersoldefest2017.png
END:VEVENT
END:VCALENDAR